BEGIN:VCALENDAR
VERSION:2.0
PRODID:-//Honor Flight Rochester - ECPv6.15.20//NONSGML v1.0//EN
CALSCALE:GREGORIAN
METHOD:PUBLISH
X-ORIGINAL-URL:https://honorflightrochester.org
X-WR-CALDESC:Events for Honor Flight Rochester
REFRESH-INTERVAL;VALUE=DURATION:PT1H
X-Robots-Tag:noindex
X-PUBLISHED-TTL:PT1H
BEGIN:VTIMEZONE
TZID:America/New_York
BEGIN:DAYLIGHT
TZOFFSETFROM:-0500
TZOFFSETTO:-0400
TZNAME:EDT
DTSTART:20230312T070000
END:DAYLIGHT
BEGIN:STANDARD
TZOFFSETFROM:-0400
TZOFFSETTO:-0500
TZNAME:EST
DTSTART:20231105T060000
END:STANDARD
BEGIN:DAYLIGHT
TZOFFSETFROM:-0500
TZOFFSETTO:-0400
TZNAME:EDT
DTSTART:20240310T070000
END:DAYLIGHT
BEGIN:STANDARD
TZOFFSETFROM:-0400
TZOFFSETTO:-0500
TZNAME:EST
DTSTART:20241103T060000
END:STANDARD
BEGIN:DAYLIGHT
TZOFFSETFROM:-0500
TZOFFSETTO:-0400
TZNAME:EDT
DTSTART:20250309T070000
END:DAYLIGHT
BEGIN:STANDARD
TZOFFSETFROM:-0400
TZOFFSETTO:-0500
TZNAME:EST
DTSTART:20251102T060000
END:STANDARD
END:VTIMEZONE
BEGIN:VEVENT
DTSTART;VALUE=DATE:20241012
DTEND;VALUE=DATE:20241013
DTSTAMP:20260420T214350
CREATED:20240427T125537Z
LAST-MODIFIED:20240919T224328Z
UID:2901-1728691200-1728777599@honorflightrochester.org
SUMMARY:Spaghetti Dinner Elks Club
DESCRIPTION:
URL:https://honorflightrochester.org/event/spaghetti-dinner-elks-club/
LOCATION:Webster Elks Club\, 1066 Jackson Rd.\, Webster\, NY\, 14580\, United States
END:VEVENT
BEGIN:VEVENT
DTSTART;TZID=America/New_York:20241012T000000
DTEND;TZID=America/New_York:20241012T235959
DTSTAMP:20260420T214350
CREATED:20240427T125537Z
LAST-MODIFIED:20240427T125537Z
UID:3785-1728691200-1728777599@honorflightrochester.org
SUMMARY:Spaghetti Dinner Elks Club
DESCRIPTION:
URL:https://honorflightrochester.org/event/spaghetti-dinner-elks-club-2/
LOCATION:Webster Elks Club\, 1066 Jackson Rd.\, Webster\, NY\, 14580\, United States
END:VEVENT
BEGIN:VEVENT
DTSTART;TZID=America/New_York:20241012T160000
DTEND;TZID=America/New_York:20241012T180000
DTSTAMP:20260420T214350
CREATED:20241001T181636Z
LAST-MODIFIED:20241001T181636Z
UID:2956-1728748800-1728756000@honorflightrochester.org
SUMMARY:Kiwanis Club of Greece Drive-Thru Chicken BBQ
DESCRIPTION:The Kiwanis Club of Greece is holding a Drive-Thru Chicken BBQ to benefit Honor Flight Rochester. \n*** All tickets will be pre-sold *** \nCost is $20 for ½ Chicken\, Salt Potatoes\, Macaroni Salad\, Roll\, Butter and Dessert.  $10 of each ticket will go directly to Honor Flight Rochester! \nEither buy online at https://givebutter.com/ChickenBBQ2024 OR call / email Chris Sortino to purchase: 585-615-0634 or csortino59@gmail.com. \nPick up your Chicken dinners to-go between 4 pm and 6 pm at the Clubhouse at Orchard View Senior Apartments (1 Orchard View Drive–old Apple Annies off Latta\, Rochester\, NY 14612). \n  \n \n 
URL:https://honorflightrochester.org/event/kiwanis-club-of-greece-drive-thru-chicken-bbq/
LOCATION:NY
END:VEVENT
END:VCALENDAR