BEGIN:VCALENDAR
VERSION:2.0
PRODID:-//Honor Flight Rochester - ECPv6.15.20//NONSGML v1.0//EN
CALSCALE:GREGORIAN
METHOD:PUBLISH
X-WR-CALNAME:Honor Flight Rochester
X-ORIGINAL-URL:https://honorflightrochester.org
X-WR-CALDESC:Events for Honor Flight Rochester
REFRESH-INTERVAL;VALUE=DURATION:PT1H
X-Robots-Tag:noindex
X-PUBLISHED-TTL:PT1H
BEGIN:VTIMEZONE
TZID:America/New_York
BEGIN:DAYLIGHT
TZOFFSETFROM:-0500
TZOFFSETTO:-0400
TZNAME:EDT
DTSTART:20220313T070000
END:DAYLIGHT
BEGIN:STANDARD
TZOFFSETFROM:-0400
TZOFFSETTO:-0500
TZNAME:EST
DTSTART:20221106T060000
END:STANDARD
BEGIN:DAYLIGHT
TZOFFSETFROM:-0500
TZOFFSETTO:-0400
TZNAME:EDT
DTSTART:20230312T070000
END:DAYLIGHT
BEGIN:STANDARD
TZOFFSETFROM:-0400
TZOFFSETTO:-0500
TZNAME:EST
DTSTART:20231105T060000
END:STANDARD
BEGIN:DAYLIGHT
TZOFFSETFROM:-0500
TZOFFSETTO:-0400
TZNAME:EDT
DTSTART:20240310T070000
END:DAYLIGHT
BEGIN:STANDARD
TZOFFSETFROM:-0400
TZOFFSETTO:-0500
TZNAME:EST
DTSTART:20241103T060000
END:STANDARD
END:VTIMEZONE
BEGIN:VEVENT
DTSTART;TZID=America/New_York:20230902T103000
DTEND;TZID=America/New_York:20230902T180000
DTSTAMP:20260421T161028
CREATED:20230824T163241Z
LAST-MODIFIED:20230824T163241Z
UID:3763-1693650600-1693677600@honorflightrochester.org
SUMMARY:MighTea Boba and Geneva Club Beverage Fundraiser for HFR
DESCRIPTION:BBQ\, Pizza\, and race cars onsite!  Presale available at MighTea Boba and Geneva Club Beverage. \nFood available from 10:30 am until sold out!
URL:https://honorflightrochester.org/event/mightea-boba-and-geneva-club-beverage-fundraiser-for-hfr-2/
LOCATION:Runnings Plaza\, 3191 County Road 10\, Canandaigua\, New York\, 14424
END:VEVENT
BEGIN:VEVENT
DTSTART;TZID=America/New_York:20230902T103000
DTEND;TZID=America/New_York:20230902T180000
DTSTAMP:20260421T161028
CREATED:20230824T163241Z
LAST-MODIFIED:20230824T163241Z
UID:2744-1693650600-1693677600@honorflightrochester.org
SUMMARY:MighTea Boba and Geneva Club Beverage Fundraiser for HFR
DESCRIPTION:BBQ\, Pizza\, and race cars onsite!  Presale available at MighTea Boba and Geneva Club Beverage. \nFood available from 10:30 am until sold out!
URL:https://honorflightrochester.org/event/mightea-boba-and-geneva-club-beverage-fundraiser-for-hfr/
LOCATION:Runnings Plaza\, 3191 County Road 10\, Canandaigua\, New York\, 14424
END:VEVENT
BEGIN:VEVENT
DTSTART;TZID=America/New_York:20230916T000000
DTEND;TZID=America/New_York:20230916T235959
DTSTAMP:20260421T161028
CREATED:20230902T184814Z
LAST-MODIFIED:20230902T184814Z
UID:3765-1694822400-1694908799@honorflightrochester.org
SUMMARY:Red Wings With Milo
DESCRIPTION:
URL:https://honorflightrochester.org/event/red-wings-with-milo-2/
LOCATION:Red Wing Stadium\, Rochester\, NY\, United States
END:VEVENT
BEGIN:VEVENT
DTSTART;VALUE=DATE:20230916
DTEND;VALUE=DATE:20230917
DTSTAMP:20260421T161028
CREATED:20230902T184814Z
LAST-MODIFIED:20230902T184814Z
UID:2766-1694822400-1694908799@honorflightrochester.org
SUMMARY:Red Wings With Milo
DESCRIPTION:
URL:https://honorflightrochester.org/event/red-wings-with-milo/
LOCATION:Red Wing Stadium\, Rochester\, NY\, United States
END:VEVENT
BEGIN:VEVENT
DTSTART;TZID=America/New_York:20230916T090000
DTEND;TZID=America/New_York:20230916T150000
DTSTAMP:20260421T161028
CREATED:20230902T184749Z
LAST-MODIFIED:20230904T204830Z
UID:2776-1694854800-1694876400@honorflightrochester.org
SUMMARY:Victor Climb Aboard 9/16
DESCRIPTION:
URL:https://honorflightrochester.org/event/victor-climb-aboard-9-16/
LOCATION:Victor Mainstreet\, Victor\, NY\, United States
END:VEVENT
BEGIN:VEVENT
DTSTART;TZID=America/New_York:20230916T090000
DTEND;TZID=America/New_York:20230916T150000
DTSTAMP:20260421T161028
CREATED:20230902T184749Z
LAST-MODIFIED:20230902T184749Z
UID:3767-1694854800-1694876400@honorflightrochester.org
SUMMARY:Victor Climb Aboard 9/16
DESCRIPTION:
URL:https://honorflightrochester.org/event/victor-climb-aboard-9-16-2/
LOCATION:Victor Mainstreet\, Victor\, NY\, United States
END:VEVENT
BEGIN:VEVENT
DTSTART;TZID=America/New_York:20230930T110000
DTEND;TZID=America/New_York:20230930T150000
DTSTAMP:20260421T161028
CREATED:20230902T184721Z
LAST-MODIFIED:20230913T221638Z
UID:2772-1696071600-1696086000@honorflightrochester.org
SUMMARY:Penfield Ambulance 9/30
DESCRIPTION:Community Health Fair with vendors\, fun activities\, emergency vehicle tours\, etc.  Fun for all ages!
URL:https://honorflightrochester.org/event/penfield-ambulance-9-30/
LOCATION:Penfiled Ambulance\, 1585 Penfield Rd\, Penfield\, NY\, United States
END:VEVENT
BEGIN:VEVENT
DTSTART;TZID=America/New_York:20230930T110000
DTEND;TZID=America/New_York:20230930T150000
DTSTAMP:20260421T161028
CREATED:20230902T184721Z
LAST-MODIFIED:20230902T184721Z
UID:3766-1696071600-1696086000@honorflightrochester.org
SUMMARY:Penfield Ambulance 9/30
DESCRIPTION:Community Health Fair with vendors\, fun activities\, emergency vehicle tours\, etc.  Fun for all ages!
URL:https://honorflightrochester.org/event/penfield-ambulance-9-30-2/
LOCATION:Penfiled Ambulance\, 1585 Penfield Rd\, Penfield\, NY\, United States
END:VEVENT
END:VCALENDAR