BEGIN:VCALENDAR
VERSION:2.0
PRODID:-//Honor Flight Rochester - ECPv6.15.20//NONSGML v1.0//EN
CALSCALE:GREGORIAN
METHOD:PUBLISH
X-WR-CALNAME:Honor Flight Rochester
X-ORIGINAL-URL:https://honorflightrochester.org
X-WR-CALDESC:Events for Honor Flight Rochester
REFRESH-INTERVAL;VALUE=DURATION:PT1H
X-Robots-Tag:noindex
X-PUBLISHED-TTL:PT1H
BEGIN:VTIMEZONE
TZID:America/New_York
BEGIN:DAYLIGHT
TZOFFSETFROM:-0500
TZOFFSETTO:-0400
TZNAME:EDT
DTSTART:20230312T070000
END:DAYLIGHT
BEGIN:STANDARD
TZOFFSETFROM:-0400
TZOFFSETTO:-0500
TZNAME:EST
DTSTART:20231105T060000
END:STANDARD
BEGIN:DAYLIGHT
TZOFFSETFROM:-0500
TZOFFSETTO:-0400
TZNAME:EDT
DTSTART:20240310T070000
END:DAYLIGHT
BEGIN:STANDARD
TZOFFSETFROM:-0400
TZOFFSETTO:-0500
TZNAME:EST
DTSTART:20241103T060000
END:STANDARD
BEGIN:DAYLIGHT
TZOFFSETFROM:-0500
TZOFFSETTO:-0400
TZNAME:EDT
DTSTART:20250309T070000
END:DAYLIGHT
BEGIN:STANDARD
TZOFFSETFROM:-0400
TZOFFSETTO:-0500
TZNAME:EST
DTSTART:20251102T060000
END:STANDARD
END:VTIMEZONE
BEGIN:VEVENT
DTSTART;TZID=America/New_York:20241116T173000
DTEND;TZID=America/New_York:20241116T220000
DTSTAMP:20260420T214336
CREATED:20240427T125936Z
LAST-MODIFIED:20250122T151216Z
UID:3787-1731778200-1731794400@honorflightrochester.org
SUMMARY:Elvis Night
DESCRIPTION:Elvis Night (featuring Patrick Johnson) will be held on Saturday\, November 16th. \nBrook House Restaurant \n920 Elmridge Center Drive \nTickets: $25 \nTickets with Buffet: $35 \nFor tickets\, contact Karen Gerrish (585) 615-2901 \nAll proceeds benefit Honor Flight Rochester! \n \n 
URL:https://honorflightrochester.org/event/elvis-night-2/
LOCATION:Red Fedele’s Brook House Restaurant\, 920 Elmridge Center\, NY\, 14626\, United States
END:VEVENT
END:VCALENDAR