BEGIN:VCALENDAR
VERSION:2.0
PRODID:-//Honor Flight Rochester - ECPv6.15.20//NONSGML v1.0//EN
CALSCALE:GREGORIAN
METHOD:PUBLISH
X-ORIGINAL-URL:https://honorflightrochester.org
X-WR-CALDESC:Events for Honor Flight Rochester
REFRESH-INTERVAL;VALUE=DURATION:PT1H
X-Robots-Tag:noindex
X-PUBLISHED-TTL:PT1H
BEGIN:VTIMEZONE
TZID:America/New_York
BEGIN:DAYLIGHT
TZOFFSETFROM:-0500
TZOFFSETTO:-0400
TZNAME:EDT
DTSTART:20230312T070000
END:DAYLIGHT
BEGIN:STANDARD
TZOFFSETFROM:-0400
TZOFFSETTO:-0500
TZNAME:EST
DTSTART:20231105T060000
END:STANDARD
BEGIN:DAYLIGHT
TZOFFSETFROM:-0500
TZOFFSETTO:-0400
TZNAME:EDT
DTSTART:20240310T070000
END:DAYLIGHT
BEGIN:STANDARD
TZOFFSETFROM:-0400
TZOFFSETTO:-0500
TZNAME:EST
DTSTART:20241103T060000
END:STANDARD
BEGIN:DAYLIGHT
TZOFFSETFROM:-0500
TZOFFSETTO:-0400
TZNAME:EDT
DTSTART:20250309T070000
END:DAYLIGHT
BEGIN:STANDARD
TZOFFSETFROM:-0400
TZOFFSETTO:-0500
TZNAME:EST
DTSTART:20251102T060000
END:STANDARD
END:VTIMEZONE
BEGIN:VEVENT
DTSTART;VALUE=DATE:20240928
DTEND;VALUE=DATE:20240930
DTSTAMP:20260421T001725
CREATED:20240220T171441Z
LAST-MODIFIED:20240911T142322Z
UID:2848-1727481600-1727654399@honorflightrochester.org
SUMMARY:Purple Painted Lady
DESCRIPTION:
URL:https://honorflightrochester.org/event/purple-painted-lady/
LOCATION:NY
END:VEVENT
BEGIN:VEVENT
DTSTART;TZID=America/New_York:20240928T000000
DTEND;TZID=America/New_York:20240929T235959
DTSTAMP:20260421T001725
CREATED:20240220T171441Z
LAST-MODIFIED:20240220T171441Z
UID:3775-1727481600-1727654399@honorflightrochester.org
SUMMARY:Purple Painted Lady
DESCRIPTION:
URL:https://honorflightrochester.org/event/purple-painted-lady-2/
LOCATION:NY
END:VEVENT
END:VCALENDAR