BEGIN:VCALENDAR
VERSION:2.0
PRODID:-//Honor Flight Rochester - ECPv6.15.20//NONSGML v1.0//EN
CALSCALE:GREGORIAN
METHOD:PUBLISH
X-WR-CALNAME:Honor Flight Rochester
X-ORIGINAL-URL:https://honorflightrochester.org
X-WR-CALDESC:Events for Honor Flight Rochester
REFRESH-INTERVAL;VALUE=DURATION:PT1H
X-Robots-Tag:noindex
X-PUBLISHED-TTL:PT1H
BEGIN:VTIMEZONE
TZID:America/New_York
BEGIN:DAYLIGHT
TZOFFSETFROM:-0500
TZOFFSETTO:-0400
TZNAME:EDT
DTSTART:20220313T070000
END:DAYLIGHT
BEGIN:STANDARD
TZOFFSETFROM:-0400
TZOFFSETTO:-0500
TZNAME:EST
DTSTART:20221106T060000
END:STANDARD
BEGIN:DAYLIGHT
TZOFFSETFROM:-0500
TZOFFSETTO:-0400
TZNAME:EDT
DTSTART:20230312T070000
END:DAYLIGHT
BEGIN:STANDARD
TZOFFSETFROM:-0400
TZOFFSETTO:-0500
TZNAME:EST
DTSTART:20231105T060000
END:STANDARD
BEGIN:DAYLIGHT
TZOFFSETFROM:-0500
TZOFFSETTO:-0400
TZNAME:EDT
DTSTART:20240310T070000
END:DAYLIGHT
BEGIN:STANDARD
TZOFFSETFROM:-0400
TZOFFSETTO:-0500
TZNAME:EST
DTSTART:20241103T060000
END:STANDARD
END:VTIMEZONE
BEGIN:VEVENT
DTSTART;TZID=America/New_York:20230819T120000
DTEND;TZID=America/New_York:20230819T180000
DTSTAMP:20260421T191851
CREATED:20230807T184734Z
LAST-MODIFIED:20230807T184734Z
UID:2494-1692446400-1692468000@honorflightrochester.org
SUMMARY:MusicFest 2023 to Benefit HFR
DESCRIPTION:The Rochester Elks Lodge will be hosting a live music concert to benefit Honor Flight Rochester on Saturday\, August 19th from noon – 6 pm. \nTickets are $15 each\, kids 10 and under are free!  Ticket includes music\, burgers\, hots\, sausage\, salads\, and soft drinks.  Adult beverages also available.
URL:https://honorflightrochester.org/event/musicfest-2023-to-benefit-hfr/
LOCATION:Rochester Elks Lodge\, 3525 E. Henrietta Rd.\, Henrietta\, NY\, 14467\, United States
END:VEVENT
BEGIN:VEVENT
DTSTART;TZID=America/New_York:20230819T120000
DTEND;TZID=America/New_York:20230819T180000
DTSTAMP:20260421T191851
CREATED:20230807T184734Z
LAST-MODIFIED:20230807T184734Z
UID:3762-1692446400-1692468000@honorflightrochester.org
SUMMARY:MusicFest 2023 to Benefit HFR
DESCRIPTION:The Rochester Elks Lodge will be hosting a live music concert to benefit Honor Flight Rochester on Saturday\, August 19th from noon – 6 pm. \nTickets are $15 each\, kids 10 and under are free!  Ticket includes music\, burgers\, hots\, sausage\, salads\, and soft drinks.  Adult beverages also available.
URL:https://honorflightrochester.org/event/musicfest-2023-to-benefit-hfr-2/
LOCATION:Rochester Elks Lodge\, 3525 E. Henrietta Rd.\, Henrietta\, NY\, 14467\, United States
END:VEVENT
END:VCALENDAR