BEGIN:VCALENDAR
VERSION:2.0
PRODID:-//Honor Flight Rochester - ECPv6.15.20//NONSGML v1.0//EN
CALSCALE:GREGORIAN
METHOD:PUBLISH
X-WR-CALNAME:Honor Flight Rochester
X-ORIGINAL-URL:https://honorflightrochester.org
X-WR-CALDESC:Events for Honor Flight Rochester
REFRESH-INTERVAL;VALUE=DURATION:PT1H
X-Robots-Tag:noindex
X-PUBLISHED-TTL:PT1H
BEGIN:VTIMEZONE
TZID:America/New_York
BEGIN:DAYLIGHT
TZOFFSETFROM:-0500
TZOFFSETTO:-0400
TZNAME:EDT
DTSTART:20220313T070000
END:DAYLIGHT
BEGIN:STANDARD
TZOFFSETFROM:-0400
TZOFFSETTO:-0500
TZNAME:EST
DTSTART:20221106T060000
END:STANDARD
BEGIN:DAYLIGHT
TZOFFSETFROM:-0500
TZOFFSETTO:-0400
TZNAME:EDT
DTSTART:20230312T070000
END:DAYLIGHT
BEGIN:STANDARD
TZOFFSETFROM:-0400
TZOFFSETTO:-0500
TZNAME:EST
DTSTART:20231105T060000
END:STANDARD
BEGIN:DAYLIGHT
TZOFFSETFROM:-0500
TZOFFSETTO:-0400
TZNAME:EDT
DTSTART:20240310T070000
END:DAYLIGHT
BEGIN:STANDARD
TZOFFSETFROM:-0400
TZOFFSETTO:-0500
TZNAME:EST
DTSTART:20241103T060000
END:STANDARD
END:VTIMEZONE
BEGIN:VEVENT
DTSTART;TZID=America/New_York:20230604T100000
DTEND;TZID=America/New_York:20230604T160000
DTSTAMP:20260421T221005
CREATED:20230322T181716Z
LAST-MODIFIED:20230322T181716Z
UID:2435-1685872800-1685894400@honorflightrochester.org
SUMMARY:Geneseo Air Show Day 2
DESCRIPTION:Parking is included at the Geneseo Airshow\nYou are welcome to bring blankets\, chairs\, and golf-sized umbrellas\nPLEASE\, NO SMOKING\, ALCOHOL\, TENTS\, OR ANIMALS\nAll ticket sales are final. No refunds. No Rainchecks\nBuy advance tickets here
URL:https://honorflightrochester.org/event/geneseo-air-show-day-2/
LOCATION:National Warplane Museum\, 3489 Big Tree Ln.\, Geneseo\, NY\, 14454\, United States
END:VEVENT
BEGIN:VEVENT
DTSTART;TZID=America/New_York:20230604T100000
DTEND;TZID=America/New_York:20230604T160000
DTSTAMP:20260421T221005
CREATED:20230322T181716Z
LAST-MODIFIED:20230322T181716Z
UID:3759-1685872800-1685894400@honorflightrochester.org
SUMMARY:Geneseo Air Show Day 2
DESCRIPTION:Parking is included at the Geneseo Airshow\nYou are welcome to bring blankets\, chairs\, and golf-sized umbrellas\nPLEASE\, NO SMOKING\, ALCOHOL\, TENTS\, OR ANIMALS\nAll ticket sales are final. No refunds. No Rainchecks\nBuy advance tickets here
URL:https://honorflightrochester.org/event/geneseo-air-show-day-2-2/
LOCATION:National Warplane Museum\, 3489 Big Tree Ln.\, Geneseo\, NY\, 14454\, United States
END:VEVENT
BEGIN:VEVENT
DTSTART;TZID=America/New_York:20230604T100000
DTEND;TZID=America/New_York:20230604T170000
DTSTAMP:20260421T221005
CREATED:20230221T165840Z
LAST-MODIFIED:20230221T165840Z
UID:3755-1685872800-1685898000@honorflightrochester.org
SUMMARY:Fairport Canal Days Sunday
DESCRIPTION:
URL:https://honorflightrochester.org/event/fairport-canal-days-sunday-2/
LOCATION:NY
END:VEVENT
BEGIN:VEVENT
DTSTART;TZID=America/New_York:20230604T100000
DTEND;TZID=America/New_York:20230604T170000
DTSTAMP:20260421T221005
CREATED:20230221T165840Z
LAST-MODIFIED:20230221T165840Z
UID:2410-1685872800-1685898000@honorflightrochester.org
SUMMARY:Fairport Canal Days Sunday
DESCRIPTION:
URL:https://honorflightrochester.org/event/fairport-canal-days-sunday/
LOCATION:NY
END:VEVENT
END:VCALENDAR